BEGIN:VCALENDAR
VERSION:2.0
PRODID:gruene-horneburg.de
METHOD:PUBLISH
BEGIN:VTIMEZONE
TZID:Europe/Berlin
X-LIC-LOCATION:Europe/Berlin
BEGIN:DAYLIGHT
TZOFFSETFROM:+0100
TZOFFSETTO:+0200
TZNAME:CEST
DTSTART:19700329T020000
RRULE:FREQ=YEARLY;INTERVAL=1;BYDAY=-1SU;BYMONTH=3
END:DAYLIGHT
BEGIN:STANDARD
TZOFFSETFROM:+0200
TZOFFSETTO:+0100
TZNAME:CET
DTSTART:19701025T030000
RRULE:FREQ=YEARLY;INTERVAL=1;BYDAY=-1SU;BYMONTH=10
END:STANDARD
END:VTIMEZONE
BEGIN:VEVENT
UID:10005921d45b8ecfb6e5ccf4263cdf39@gruene-horneburg.de
URL;VALUE=URI:https://gruene-horneburg.de/termine/infoveranstaltung-buerg
 erenergiegenossenschaft-beg/
LOCATION:Dorfgemeinschaftshaus Neuenkirchen, Dorfstraße 56, 21640 Neuenk
 irchen
SUMMARY:Infoveranstaltung: Bürgerenergiegenossenschaft (BEG)
DESCRIPTION;ALTREP="data:text/html,%0A%3Cp%3EDie%20B%C3%BCrgerenergiegeno
 ssenschaft%20Altes%20Land%20und%20Horneburg%20laden%20alle%20interessiert
 en%20B%C3%BCrger%3Ainnen%20herzlich%20zu%20der%20ersten%20Informationsver
 anstaltung%20ein%21%20%3Cbr%3EAblauf%20der%20Veranstaltung%3A%C2%A0%3C%2F
 p%3E%0A%0A%0A%0A%3Cul%20class%3D%22wp-block-list%22%3E%3Cli%3EModeration%
 20erfolgt%20von%20Timo%20Gerke%20%28Samtgemeindeb%C3%BCrgermeister%20L%C3
 %BChe%29%3C%2Fli%3E%3Cli%3EEinf%C3%BChrungsvortrag%3A%20Edgar%20Schmidt%3
 C%2Fli%3E%3Cli%3EBeispiel%20einer%20Gr%C3%BCndung%20und%20des%20Betriebes
 %20einer%20BEG%3A%20Peter%20Wortmann%2C%20B%C3%BCrgerEnergie%20Osteland%3
 C%2Fli%3E%3Cli%3EBeispiele%20und%20potentiale%20lokaler%20Energiegewinnun
 g%3A%20Andreas%20Kehren%2C%20Solaranlage.one%2C%20Stade%3C%2Fli%3E%3Cli%3
 EPodiumsdiskussion%3C%2Fli%3E%3C%2Ful%3E%0A%0A%0A%0A%3Cp%3EAlle%20zuk%C3%
 BCnftigen%20Informationen%20findet%20ihr%20bald%20unter%26nbsp%3Bwww.beg-
 al.de%3C%2Fp%3E%0A":Die Bürgerenergiegenossenschaft Altes Land und Horne
 burg laden alle interessierten Bürger:innen herzlich zu der ersten Infor
 mationsveranstaltung ein! Ablauf der Veranstaltung: \n\nModeration erfol
 gt von Timo Gerke (Samtgemeindebürgermeister Lühe)Einführungsvortrag: 
 Edgar SchmidtBeispiel einer Gründung und des Betriebes einer BEG: Peter 
 Wortmann\, BürgerEnergie OstelandBeispiele und potentiale lokaler Energi
 egewinnung: Andreas Kehren\, Solaranlage.one\, StadePodiumsdiskussion\n\n
 Alle zukünftigen Informationen findet ihr bald unter www.beg-al.de
CLASS:PUBLIC
DTSTART;TZID=Europe/Berlin:20221201T190000
DTEND;TZID=Europe/Berlin:20221201T190000
DTSTAMP:20260421T095319
END:VEVENT
END:VCALENDAR