BEGIN:VCALENDAR
VERSION:2.0
PRODID:gruene-horneburg.de
METHOD:PUBLISH
BEGIN:VTIMEZONE
TZID:Europe/Berlin
X-LIC-LOCATION:Europe/Berlin
BEGIN:DAYLIGHT
TZOFFSETFROM:+0100
TZOFFSETTO:+0200
TZNAME:CEST
DTSTART:19700329T020000
RRULE:FREQ=YEARLY;INTERVAL=1;BYDAY=-1SU;BYMONTH=3
END:DAYLIGHT
BEGIN:STANDARD
TZOFFSETFROM:+0200
TZOFFSETTO:+0100
TZNAME:CET
DTSTART:19701025T030000
RRULE:FREQ=YEARLY;INTERVAL=1;BYDAY=-1SU;BYMONTH=10
END:STANDARD
END:VTIMEZONE
BEGIN:VEVENT
UID:4efe8e3b05494740f772a45b347e10e2@gruene-horneburg.de
URL;VALUE=URI:https://gruene-horneburg.de/termine/kundgebung-gegen-afd-au
 ftritt/
LOCATION:vor der Halepaghen-Schule Buxtehude, Buxtehude
SUMMARY:Kundgebung gegen AfD Auftritt am 12.04.2024!
DESCRIPTION;ALTREP="data:text/html,%0A%3Cp%3EJA%20ZUR%20DEMOKRATIE%21%26n
 bsp%3BJA%20ZU%20EUROPA%21%20NEIN%20ZU%20HASS%20UND%20HETZE%21%3C%2Fp%3E%0
 A%0A%0A%0A%3Cp%3EVeranstalter%3A%20%3Ca%20href%3D%22https%3A%2F%2Fomasgeg
 enrechts-nord.de%2F2024%2F03%2F18%2Fbuxtehude-kundgebung-12-4-24-gegen-af
 d-auftritt-hinweis-der-redaktion%2F%22%20target%3D%22_blank%22%20rel%3D%2
 2noreferrer%20noopener%22%3EOma%20gegen%20R%3C%2Fa%3E%3Ca%20href%3D%22htt
 ps%3A%2F%2Fomasgegenrechts-nord.de%2F2024%2F03%2F18%2Fbuxtehude-kundgebun
 g-12-4-24-gegen-afd-auftritt-hinweis-der-redaktion%2F%22%3Eechts%3C%2Fa%3
 E%3C%2Fp%3E%0A%0A%0A%0A%3Cp%3EDie%20Halepaghen-Schule%20Buxtehude%20%28HP
 S%29%20ist%20eine%20%3Ca%20href%3D%22https%3A%2F%2Fwww.halepaghen-schule.
 de%2Fbilder%2FSchulleben%2FAG_SoR-SmC%2FSoR_SmC_InfoBlatt_allg_u_HPS_1305
 26.pdf%22%20target%3D%22_blank%22%20rel%3D%22noreferrer%20noopener%22%3ES
 chule%20ohne%20Rassismus%20%E2%80%93%20Schule%20mit%20Courage%21%3C%2Fa%3
 E%20Prima%21%20Aber%20warum%20spricht%20genau%20in%20dieser%20Schule%20de
 r%20Spitzenkandidat%20der%20AfD%20f%C3%BCr%20die%20Europawahl%3F%20Die%20
 Aussagen%20wurden%20vom%20Verfassungsschutz%20als%20nationalistisch%2C%20
 islamfeindlich%2C%20fremdenfeindlich%20und%20verfassungsfeindlich%20einge
 stuft.%3C%2Fp%3E%0A%0A%0A%0A%3Ch2%20class%3D%22wp-block-heading%22%3EGeme
 insam%20ein%20Zeichen%20setzen%21%3C%2Fh2%3E%0A%0A%0A%0A%3Cp%3EDaher%20fo
 lgt%20bitte%20dem%20Aufruf%20von%20%3Ca%20href%3D%22https%3A%2F%2Fomasgeg
 enrechts-nord.de%2F2024%2F03%2F18%2Fbuxtehude-kundgebung-12-4-24-gegen-af
 d-auftritt-hinweis-der-redaktion%2F%22%20target%3D%22_blank%22%20rel%3D%2
 2noreferrer%20noopener%22%3EOma%20gegen%20Rechts%3C%2Fa%3E%20und%20lasst%
 20uns%20gemeinsam%20ein%20sichtbares%20Zeichen%20f%C3%BCr%20unsere%20Demo
 kratie%20und%20gegen%20Rassismus%20setzten%21%3C%2Fp%3E%0A%0A%0A%0A%3Cp%3
 EWir%20rufen%20euch%20deshalb%20zur%20Teilnahme%20auf%3A%20Es%20ist%20kei
 n%20Platz%20f%C3%BCr%20Rassismus%21%20Farbe%20bekennen%20gegen%20Rechts%2
 1%20Nie%20wieder%20ist%20jetzt%21%20AfDnee%21%3C%2Fp%3E%0A":JA ZUR DEMOKR
 ATIE! JA ZU EUROPA! NEIN ZU HASS UND HETZE!\n\nVeranstalter: Oma gegen R
 echts\n\nDie Halepaghen-Schule Buxtehude (HPS) ist eine Schule ohne Rassi
 smus – Schule mit Courage! Prima! Aber warum spricht genau in dieser Sc
 hule der Spitzenkandidat der AfD für die Europawahl? Die Aussagen wurden
  vom Verfassungsschutz als nationalistisch\, islamfeindlich\, fremdenfein
 dlich und verfassungsfeindlich eingestuft.\n\nGemeinsam ein Zeichen setze
 n!\n\nDaher folgt bitte dem Aufruf von Oma gegen Rechts und lasst uns gem
 einsam ein sichtbares Zeichen für unsere Demokratie und gegen Rassismus 
 setzten!\n\nWir rufen euch deshalb zur Teilnahme auf: Es ist kein Platz f
 ür Rassismus! Farbe bekennen gegen Rechts! Nie wieder ist jetzt! AfDnee!
CLASS:PUBLIC
DTSTART;TZID=Europe/Berlin:20240412T170000
DTEND;TZID=Europe/Berlin:20240412T180000
DTSTAMP:20260424T105057
END:VEVENT
END:VCALENDAR