BEGIN:VCALENDAR
VERSION:2.0
PRODID:gruene-horneburg.de
METHOD:PUBLISH
BEGIN:VTIMEZONE
TZID:Europe/Berlin
X-LIC-LOCATION:Europe/Berlin
BEGIN:DAYLIGHT
TZOFFSETFROM:+0100
TZOFFSETTO:+0200
TZNAME:CEST
DTSTART:19700329T020000
RRULE:FREQ=YEARLY;INTERVAL=1;BYDAY=-1SU;BYMONTH=3
END:DAYLIGHT
BEGIN:STANDARD
TZOFFSETFROM:+0200
TZOFFSETTO:+0100
TZNAME:CET
DTSTART:19701025T030000
RRULE:FREQ=YEARLY;INTERVAL=1;BYDAY=-1SU;BYMONTH=10
END:STANDARD
END:VTIMEZONE
BEGIN:VEVENT
UID:c7a3fe844c228e17cb62c22680439374@gruene-horneburg.de
URL;VALUE=URI:https://gruene-horneburg.de/termine/radtour-am-17-07-2021/
LOCATION:Radtour, Treffen Marktplatz, Jork
SUMMARY:Radtour am 17.07.2021
DESCRIPTION;ALTREP="data:text/html,%0A%3Ch2%20class%3D%22wp-block-heading
 %22%3EStart%20um%2012.00%20Uhr%20am%20Marktplatz%20in%20Jork%20%E2%80%93%
 20Zwischenstopp%20am%20L%C3%BCheanleger%20%E2%80%93%20Ausklang%20ca.%2017
 .00%20Uhr%20im%26nbsp%3BHandwerksmuseum%20in%20Horneburg%3C%2Fh2%3E%0A%0A
 %0A%0A%3Cp%3EDie%20Ortsverb%C3%A4nde%20Altes%20Land%20und%20Horneburg%20l
 aden%20zu%20einer%20gemeinsamen%20Radtour%20ein.%20Mit%20von%20der%20Part
 ie%20sind%20die%20Kreistagswahl-Kandidat%3Ainnen%20des%20Wahlbereichs%205
 %20und%20der%20Bundestagskandidat%26nbsp%3B%3Ca%20href%3D%22https%3A%2F%2
 Fclaas-goldenstein.de%2F%22%3EClaas%20Goldenstein%3C%2Fa%3E.%20Also%20ein
 e%20gute%20Gelegenheit%2C%20beides%2C%20die%26nbsp%3BKandidat%3Ainnen%20u
 nd%20unsere%20Region%20kennenzulernen.%3C%2Fp%3E%0A%0A%0A%0A%3Cp%3EThemen
 schwerpunkte%20sind%20die%20lokalen%20Landschaften%2C%20Tourismus%20sowie
 %20das%20Fu%C3%9F-%20und%20Radwegenetz%2C%20die%20Themen%2C%20die%20uns%2
 0neben%20der%26nbsp%3BEnergiepolitik%20als%20Klimaschutzregion%20verbinde
 n%3A%3C%2Fp%3E%0A%0A%0A%0A%3Cul%20class%3D%22wp-block-list%22%3E%3Cli%3EO
 bstbaufl%C3%A4chen%2C%20Deiche%2C%20Elbinseln%2C%20M%C3%BCndung%20und%20N
 ebenfluss%20L%C3%BChe%2C%20Deichhufend%C3%B6rfer%2C%20Marsch-%20und%20Moo
 rfl%C3%A4chen%E2%80%A6%3C%2Fli%3E%3Cli%3Ealle%20wollen%20%E2%80%9Esanften
 %E2%80%9C%20Tourismus%20und%20meinen%20doch%20Verschiedenes%E2%80%A6%3C%2
 Fli%3E%3Cli%3Eviele%20Wege%20gibt%20es%20schon%2C%20man%20muss%20sie%20nu
 r%20kennen%20und%20manchmal%20fehlen%20kleine%20Teilst%C3%BCcke%E2%80%A6%
 3C%2Fli%3E%3C%2Ful%3E%0A%0A%0A%0A%3Ch2%20class%3D%22wp-block-heading%22%3
 E%3Cstrong%3ELust%20mit%20dabei%20zu%20sein%3F%3C%2Fstrong%3E%3C%2Fh2%3E%
 0A%0A%0A%0A%3Cp%3EWir%20bitten%20um%20Anmeldung%20bis%20zum%20%3Cstrong%3
 E15.07.2021%3C%2Fstrong%3E%20unterevent%40gruene-horneburg.de%3C%2Fp%3E%0
 A%0A%0A%0A%3Cp%3ECoronabedingt%20ist%20die%20Teilnehmerzahl%20begrenzt.%2
 0Ihr%20bekommt%20eine%20R%C3%BCckmeldung.%3C%2Fp%3E%0A":Start um 12.00 Uh
 r am Marktplatz in Jork – Zwischenstopp am Lüheanleger – Ausklang ca
 . 17.00 Uhr im Handwerksmuseum in Horneburg\n\nDie Ortsverbände Altes L
 and und Horneburg laden zu einer gemeinsamen Radtour ein. Mit von der Par
 tie sind die Kreistagswahl-Kandidat:innen des Wahlbereichs 5 und der Bund
 estagskandidat Claas Goldenstein. Also eine gute Gelegenheit\, beides\, 
 die Kandidat:innen und unsere Region kennenzulernen.\n\nThemenschwerpunk
 te sind die lokalen Landschaften\, Tourismus sowie das Fuß- und Radwegen
 etz\, die Themen\, die uns neben der Energiepolitik als Klimaschutzregio
 n verbinden:\n\nObstbauflächen\, Deiche\, Elbinseln\, Mündung und Neben
 fluss Lühe\, Deichhufendörfer\, Marsch- und Moorflächen…alle wollen 
 „sanften“ Tourismus und meinen doch Verschiedenes…viele Wege gibt e
 s schon\, man muss sie nur kennen und manchmal fehlen kleine Teilstücke
 …\n\nLust mit dabei zu sein?\n\nWir bitten um Anmeldung bis zum 15.07.2
 021 unterevent@gruene-horneburg.de\n\nCoronabedingt ist die Teilnehmerzah
 l begrenzt. Ihr bekommt eine Rückmeldung.
CLASS:PUBLIC
DTSTART;TZID=Europe/Berlin:20210717T120000
DTEND;TZID=Europe/Berlin:20210717T170000
DTSTAMP:20260424T160357
END:VEVENT
END:VCALENDAR